{
 "currentVersion": 11.5,
 "serviceDescription": "Hosted/SD2023",
 "serviceItemId": "fc2de040115b41bcb7ee294d3a564b7a",
 "name": "Hosted/SD2023",
 "description": "",
 "extent": {
  "xmin": -1.3090990966699999E7,
  "ymin": 3833513.3992126263,
  "xmax": -1.2921405089128243E7,
  "ymax": 3963357.0873000026,
  "spatialReference": {
   "wkid": 102100,
   "latestWkid": 3857
  }
 },
 "initialExtent": {
  "xmin": -1.3090990966699999E7,
  "ymin": 3833513.3992126263,
  "xmax": -1.2921405089128243E7,
  "ymax": 3963357.0873000026,
  "spatialReference": {
   "wkid": 102100,
   "latestWkid": 3857
  }
 },
 "fullExtent": {
  "xmin": -1.3090990966699999E7,
  "ymin": 3833513.3992126263,
  "xmax": -1.2921405089128243E7,
  "ymax": 3963357.0873000026,
  "spatialReference": {
   "wkid": 102100,
   "latestWkid": 3857
  }
 },
 "sortableFields": "",
 "bandCount": 3,
 "pixelType": "U8",
 "minValues": [
  0,
  0,
  0
 ],
 "maxValues": [
  255,
  255,
  255
 ],
 "meanValues": [
  115.34368411955757,
  113.4730945216825,
  110.75160296260424
 ],
 "stdvValues": [
  61.3185716541799,
  54.53621975535009,
  48.1761997644845
 ],
 "serviceProperties": "Center<\/MosaicMethod>First<\/MosaicOperator>true<\/SortAscending><\/LockImageID><\/TileOrderField>0<\/TileOrderBase>0.000000<\/AvgImageSpacingX>0.000000<\/AvgImageSpacingY>0.0<\/ViewPointX>0.0<\/ViewPointY>0.0<\/ViewPointDefShiftX>0.0<\/ViewPointDefShiftY>None<\/CompressionMethod>75<\/CompressionQuality>0.010000<\/CompressionTolerance>Bilinear<\/SamplingMethod><\/ImageServiceProperties><\/ImageServer>",
 "allowedFields": "",
 "hasMultidimensions": false,
 "pixelSizeX": 0.2286004572009156,
 "pixelSizeY": 0.22860045720091463,
 "meanPixelSize": 0.2286004572009151,
 "datasetFormat": "Cache/LERC2D",
 "uncompressedSize": 1264088822808,
 "blockWidth": 256,
 "blockHeight": 256,
 "compressionType": "LERC2D",
 "bandNames": [
  "Band_1",
  "Band_2",
  "Band_3"
 ],
 "allowCopy": true,
 "allowAnalysis": true,
 "itemAccess": false,
 "inspectionCapabilities": "",
 "minPixelSize": 0,
 "maxPixelSize": 0,
 "copyrightText": "",
 "serviceDataType": "esriImageServiceDataTypeRGB",
 "serviceSourceType": "esriImageServiceSourceTypeDataset",
 "objectIdField": "",
 "fields": [],
 "capabilities": "Image, Metadata",
 "defaultMosaicMethod": "Center",
 "allowedMosaicMethods": "",
 "sortField": "",
 "sortValue": null,
 "sortAscending": true,
 "mosaicOperator": "First",
 "defaultCompressionQuality": 75,
 "defaultResamplingMethod": "Bilinear",
 "maxImageHeight": 4100,
 "maxImageWidth": 15000,
 "singleFusedMapCache": true,
 "tileInfo": {
  "rows": 256,
  "cols": 256,
  "dpi": 96,
  "format": "LERC2D",
  "compressionQuality": 100000,
  "lercError": 0.1,
  "origin": {
   "x": -1.3090990966699999E7,
   "y": 3963357.0873000026
  },
  "spatialReference": {
   "wkid": 102100,
   "latestWkid": 3857
  },
  "lods": [
   {
    "level": 0,
    "resolution": 936.3474726949463,
    "scale": 3538944.0000000033
   },
   {
    "level": 1,
    "resolution": 468.17373634747315,
    "scale": 1769472.0000000016
   },
   {
    "level": 2,
    "resolution": 234.08686817373658,
    "scale": 884736.0000000008
   },
   {
    "level": 3,
    "resolution": 117.04343408686829,
    "scale": 442368.0000000004
   },
   {
    "level": 4,
    "resolution": 58.521717043434144,
    "scale": 221184.0000000002
   },
   {
    "level": 5,
    "resolution": 29.260858521717072,
    "scale": 110592.0000000001
   },
   {
    "level": 6,
    "resolution": 14.630429260858536,
    "scale": 55296.00000000005
   },
   {
    "level": 7,
    "resolution": 7.315214630429268,
    "scale": 27648.000000000025
   },
   {
    "level": 8,
    "resolution": 3.657607315214634,
    "scale": 13824.000000000013
   },
   {
    "level": 9,
    "resolution": 1.828803657607317,
    "scale": 6912.000000000006
   },
   {
    "level": 10,
    "resolution": 0.9144018288036585,
    "scale": 3456.000000000003
   },
   {
    "level": 11,
    "resolution": 0.45720091440182925,
    "scale": 1728.0000000000016
   },
   {
    "level": 12,
    "resolution": 0.22860045720091463,
    "scale": 864.0000000000008
   }
  ]
 },
 "storageInfo": {
  "storageFormat": "esriMapCacheStorageModeCompactV2",
  "packetSize": 16
 },
 "cacheType": "Raster",
 "allowRasterFunction": true,
 "rasterFunctionInfos": [
  {
   "name": "None",
   "description": "",
   "help": ""
  }
 ],
 "rasterTypeInfos": [
  {
   "name": "Raster Dataset",
   "description": "Supports all ArcGIS Raster Datasets",
   "help": ""
  }
 ],
 "mensurationCapabilities": "Basic",
 "hasHistograms": true,
 "hasColormap": false,
 "hasRasterAttributeTable": false,
 "minScale": 0,
 "maxScale": 0,
 "exportTilesAllowed": false,
 "supportsStatistics": false,
 "supportsAdvancedQueries": false,
 "editFieldsInfo": null,
 "ownershipBasedAccessControlForRasters": null,
 "allowComputeTiePoints": false,
 "useStandardizedQueries": true,
 "advancedQueryCapabilities": {
  "useStandardizedQueries": true,
  "supportsStatistics": false,
  "supportsOrderBy": false,
  "supportsDistinct": false,
  "supportsPagination": false
 },
 "spatialReference": {
  "wkid": 102100,
  "latestWkid": 3857
 }
}
