View In:
ArcGIS JavaScript
ArcGIS Online Map Viewer
ArcGIS Earth
Service Description: Hosted/SD2023
Name: Hosted/SD2023
Description:
Single Fused Map Cache: true
Tile Info:
- Height: 256
- Width: 256
- DPI: 96
-
Levels of Detail: 13
-
Level ID: 0
[ Start Tile, End Tile ]
- Resolution: 936.3474726949463
- Scale: 3538944.0000000033
-
Level ID: 1
[ Start Tile, End Tile ]
- Resolution: 468.17373634747315
- Scale: 1769472.0000000016
-
Level ID: 2
[ Start Tile, End Tile ]
- Resolution: 234.08686817373658
- Scale: 884736.0000000008
-
Level ID: 3
[ Start Tile, End Tile ]
- Resolution: 117.04343408686829
- Scale: 442368.0000000004
-
Level ID: 4
[ Start Tile, End Tile ]
- Resolution: 58.521717043434144
- Scale: 221184.0000000002
-
Level ID: 5
[ Start Tile, End Tile ]
- Resolution: 29.260858521717072
- Scale: 110592.0000000001
-
Level ID: 6
[ Start Tile, End Tile ]
- Resolution: 14.630429260858536
- Scale: 55296.00000000005
-
Level ID: 7
[ Start Tile, End Tile ]
- Resolution: 7.315214630429268
- Scale: 27648.000000000025
-
Level ID: 8
[ Start Tile, End Tile ]
- Resolution: 3.657607315214634
- Scale: 13824.000000000013
-
Level ID: 9
[ Start Tile, End Tile ]
- Resolution: 1.828803657607317
- Scale: 6912.000000000006
-
Level ID: 10
[ Start Tile, End Tile ]
- Resolution: 0.9144018288036585
- Scale: 3456.000000000003
-
Level ID: 11
[ Start Tile, End Tile ]
- Resolution: 0.45720091440182925
- Scale: 1728.0000000000016
-
Level ID: 12
[ Start Tile, End Tile ]
- Resolution: 0.22860045720091463
- Scale: 864.0000000000008
- Format: LERC2D
- Compression Quality: 100000.0
- LERC Error: 0.1
- Origin: X: -1.3090990966699999E7
Y: 3963357.0873000026
- Spatial Reference: 102100
(3857)
LatestVCSWkid(0)
Storage Info:
- Storage Format: esriMapCacheStorageModeCompactV2
- Packet Size: 16
Extent:
XMin: -1.3090990966699999E7
YMin: 3833513.3992126263
XMax: -1.2921405089128243E7
YMax: 3963357.0873000026
Spatial Reference: 102100
(3857)
LatestVCSWkid(0)
Initial Extent:
XMin: -1.3090990966699999E7
YMin: 3833513.3992126263
XMax: -1.2921405089128243E7
YMax: 3963357.0873000026
Spatial Reference: 102100
(3857)
LatestVCSWkid(0)
Full Extent:
XMin: -1.3090990966699999E7
YMin: 3833513.3992126263
XMax: -1.2921405089128243E7
YMax: 3963357.0873000026
Spatial Reference: 102100
(3857)
LatestVCSWkid(0)
Pixel Size X: 0.2286004572009156
Pixel Size Y: 0.22860045720091463
Band Count: 3
Pixel Type: U8
RasterFunction Infos: {"rasterFunctionInfos": [{
"name": "None",
"description": "",
"help": ""
}]}
Mensuration Capabilities: Basic
Inspection Capabilities:
Has Histograms: true
Has Colormap: false
Has Multi Dimensions : false
Rendering Rule:
Min Scale: 0
Max Scale: 0
Copyright Text:
Service Data Type: esriImageServiceDataTypeRGB
Min Values: 0, 0, 0
Max Values: 255, 255, 255
Mean Values: 115.34368411955757, 113.4730945216825, 110.75160296260424
Standard Deviation Values: 61.3185716541799, 54.53621975535009, 48.1761997644845
Object ID Field:
Fields:
None
Default Mosaic Method: Center
Allowed Mosaic Methods:
SortField:
SortValue: null
Mosaic Operator: First
Default Compression Quality: 75
Default Resampling Method: Bilinear
Max Record Count: null
Max Image Height: 4100
Max Image Width: 15000
Max Download Image Count: null
Max Mosaic Image Count: null
Allow Raster Function: true
Allow Copy: true
Allow Analysis: true
Allow Compute TiePoints: false
Supports Statistics: false
Supports Advanced Queries: false
Use StandardizedQueries: true
Raster Type Infos:
Name: Raster Dataset
Description: Supports all ArcGIS Raster Datasets
Help:
Has Raster Attribute Table: false
Edit Fields Info: null
Ownership Based AccessControl For Rasters: null
Child Resources:
Info
Histograms
Statistics
Key Properties
Legend
Raster Function Infos
Supported Operations:
Export Image
Identify
Compute Histograms
Compute Statistics Histograms
Get Samples
Compute Class Statistics
Query Boundary
Compute Pixel Location
Compute Angles
Validate
Project